BEGIN:VCALENDAR
VERSION:2.0
PRODID:-//wp-events-plugin.com//5.99912//EN
TZID:Europe/Berlin
X-WR-TIMEZONE:Europe/Berlin
BEGIN:VEVENT
UID:0-682@fernuni-hagen.de
DTSTART;TZID=Europe/Berlin:20260722T173000
DTEND;TZID=Europe/Berlin:20260722T190000
DTSTAMP:20251217T175824Z
URL:https://www.fernuni-hagen.de/KSW/portale/mabm/events/online-seminar-zu
 -den-hausarbeiten-online-2/
SUMMARY:Online-Seminar zu den Hausarbeiten (online)
DESCRIPTION:Dieses Online-Seminar dient der Vorbereitung auf die Hausarbeit
  und der Besprechung offener inhaltlicher Fragen hierzu.\nDer Link zur Ver
 anstaltung wird Ihnen im Nachrichtenforum der Moodle-Lernumgebung zur Verf
 ügung gestellt.
CATEGORIES:Modul C1 weitere
END:VEVENT
BEGIN:VTIMEZONE
TZID:Europe/Berlin
X-LIC-LOCATION:Europe/Berlin
BEGIN:DAYLIGHT
DTSTART:20260329T030000
TZOFFSETFROM:+0100
TZOFFSETTO:+0200
TZNAME:CEST
END:DAYLIGHT
END:VTIMEZONE
END:VCALENDAR