BEGIN:VCALENDAR
VERSION:2.0
PRODID:-//wp-events-plugin.com//5.99912//EN
TZID:Europe/Berlin
X-WR-TIMEZONE:Europe/Berlin
BEGIN:VEVENT
UID:0-723@fernuni-hagen.de
DTSTART;TZID=Europe/Berlin:20260527T190000
DTEND;TZID=Europe/Berlin:20260527T200000
DTSTAMP:20260408T134458Z
URL:https://www.fernuni-hagen.de/KSW/portale/mabm/events/online-veranstalt
 ung-verfassen-einer-forschungsskizze/
SUMMARY:Online-Seminar "Verfassen einer Forschungsskizze"
DESCRIPTION:Im Online-Seminar werden Sie begleitend zu Aufgabe C im Modul A
 1 darauf vorbereitet\, ein Hausarbeitsthema in eine Forschungsskizze zu ü
 berführen. Zudem haben Sie die Möglichkeit\, inhaltliche und organisator
 ische Fragen zur Aufgabe C und zur Hausarbeit zu stellen. Der Zoom Link zu
 r Teilnahme findet sich in der Moodle-Lernumgebung.
CATEGORIES:Modul A1 weitere
END:VEVENT
BEGIN:VTIMEZONE
TZID:Europe/Berlin
X-LIC-LOCATION:Europe/Berlin
BEGIN:DAYLIGHT
DTSTART:20260329T030000
TZOFFSETFROM:+0100
TZOFFSETTO:+0200
TZNAME:CEST
END:DAYLIGHT
END:VTIMEZONE
END:VCALENDAR