BEGIN:VCALENDAR
VERSION:2.0
PRODID:-//wp-events-plugin.com//5.99912//EN
TZID:Europe/Berlin
X-WR-TIMEZONE:Europe/Berlin
BEGIN:VEVENT
UID:0-685@fernuni-hagen.de
DTSTART;TZID=Europe/Berlin;VALUE=DATE:20260528
DTEND;TZID=Europe/Berlin;VALUE=DATE:20260530
DTSTAMP:20260401T073723Z
URL:https://www.fernuni-hagen.de/KSW/portale/mabm/events/praesenzseminar-l
 ernen-und-lehren-mit-generativer-ki-in-der-hochschule/
SUMMARY:Präsenzseminar - Lernen und Lehren mit generativer KI in der Hochs
 chule
DESCRIPTION:Am Campusstandort Budapest (Ungarn) der FernUniversität in Hag
 en wird eine Präsenzveranstaltung zum Thema 'Lehren und Lernen mit genera
 tiver KI in der Hochschullehre' angeboten. Das Seminar ist zweitägig und 
 findet ab 10 Teilnehmenden statt.\nInhalt\nDer erste Tag widmet sich dem T
 hema: Lernen mit KI. Wir beschäftigen uns dabei mit den Grundlagen des Ei
 nsatzes von (Generativer) KI in der Hochschulbildung\, inklusive Definitio
 nen und Begrifflichkeiten zu KI und damit verbundenen Technologien. Besond
 eres Augenmerk liegt auf den Möglichkeiten und Grenzen der Mensch-Maschin
 e-Interaktion in Lernprozessen sowie ethischen Aspekte zum Einsatz von KI.
  Teilnehmende haben die Möglichkeit\, aktuell an der FernUniversität in 
 Hagen genutzte KI-Anwendungen auszuprobieren und ihre bisherige KI-Nutzung
  zu reflektieren.\nAm zweiten Tag liegt der Fokus stärker auf Lehren mit 
 KI. Nach einer gemeinsamen Einführung in den Einsatz von Generativer KI a
 ls Lernunterstützung werden wir in Gruppenarbeit das Thema KI-Kompetenzen
  vertiefend behandeln.\nEs muss ein Laptop zur Veranstaltung mitgebracht w
 erden.\nTermin:\n28.05.2026 bis 29.05.2026\nZeitraum:\nAm Donnerstag\, den
  28.05.2026 von 14:00 – 17:00 Uhr und am Freitag\, den 29.05.2025 von 10
 :00 – 14:00 Uhr\nOrt:\nMadách Trade Center\nMadách Imre út 13–14\, 
 \nGebäude "A"\, 4. Stock\nH-1075 Budapest\nDer Raum zur Veranstaltung wir
 d den angemeldeten Studierenden per Mail zugesendet\nBitte richten Sie Fra
 gen zur Veranstaltung an:\nSilke E. Wrede\, silke.wrede@fernuni-hagen.de\,
  Heike Karolyi\, heike.karolyi@fernuni-hagen.de\nLeistungsnachweis:\nDie V
 eranstaltung wird als Präsenzseminar im Sinne der Studienordnung für die
  Studiengänge B.A. und M.A. Bildungswissenschaft (§ 9) anerkannt. Es wir
 d eine Teilnahmebescheinigung ausgestellt.\nDie Anmeldung zu den Veranstal
 tungen erfolgt ab Montag\, den 01.04.2026 bis zum 30.04.2026 unter dem fol
 genden Anmeldelink: https://www.fernuni-hagen.de/form/studium/praesenzsemi
 nar-28-05-2026.shtml\n&nbsp\;\n&nbsp\;
CATEGORIES:Modul B3,Modulübergreifend
LOCATION:Fernstudienzentrum Budapest\, Mádach Imre út 13-14\, Budapest\, 
 H-1075\, Ungarn
X-APPLE-STRUCTURED-LOCATION;VALUE=URI;X-ADDRESS=Mádach Imre út 13-14\, Bu
 dapest\, H-1075\, Ungarn;X-APPLE-RADIUS=100;X-TITLE=Fernstudienzentrum Bud
 apest:geo:0,0
END:VEVENT
BEGIN:VTIMEZONE
TZID:Europe/Berlin
X-LIC-LOCATION:Europe/Berlin
BEGIN:DAYLIGHT
DTSTART:20260329T030000
TZOFFSETFROM:+0100
TZOFFSETTO:+0200
TZNAME:CEST
END:DAYLIGHT
END:VTIMEZONE
END:VCALENDAR