BEGIN:VCALENDAR
VERSION:2.0
PRODID:-//wp-events-plugin.com//5.99912//EN
TZID:Europe/Berlin
X-WR-TIMEZONE:Europe/Berlin
BEGIN:VEVENT
UID:0-684@fernuni-hagen.de
DTSTART;TZID=Europe/Berlin;VALUE=DATE:20260507
DTEND;TZID=Europe/Berlin;VALUE=DATE:20260717
DTSTAMP:20260108T134809Z
URL:https://www.fernuni-hagen.de/KSW/portale/mabm/events/virtuelle-sprechs
 tunden-zu-den-teilaufgaben-2/
SUMMARY:Virtuelle Sprechstunden zu den Teilaufgaben
DESCRIPTION:Datum/Zeit\n\n	Donnerstag\, 07.05.2026\, 18 -19 Uhr \n	Donners
 tag\, 28.05.2026\, 18 – 19 Uhr\n	Donnerstag\, 18.06.2026\, 18 – 19 Uhr
 \n	Donnerstag\, 16.07.2026\, 18 – 19 Uhr\n\n&nbsp\;\nInhalt und Ziele:\n
 Um Ihnen neben der asynchronen Betreuung auch einen synchronen Austausch z
 u ermöglichen\, werden insgesamt vier Sprechstunden angeboten\, in denen 
 unterschiedliche Themen und Fragestellungen besprochen werden können\, je
  nach Stand der Aufgabenbearbeitung und auf der Grundlage Ihrer jeweiligen
  situationsbezogenen Fragen. \nDie Termine sind optional und stehen allen
  Beleger:innen des Moduls offen. Eine vorherige Anmeldung ist nicht erford
 erlich. Den Zugang zu den jeweiligen Meeting-Räumen erhalten Sie über di
 e Moodle-Lernumgebung.\nEine Teilnahmebescheinigung kann nicht erworben we
 rden
CATEGORIES:Modul B3 weitere
END:VEVENT
BEGIN:VTIMEZONE
TZID:Europe/Berlin
X-LIC-LOCATION:Europe/Berlin
BEGIN:DAYLIGHT
DTSTART:20260329T030000
TZOFFSETFROM:+0100
TZOFFSETTO:+0200
TZNAME:CEST
END:DAYLIGHT
END:VTIMEZONE
END:VCALENDAR