BEGIN:VCALENDAR
VERSION:2.0
PRODID:-//wp-events-plugin.com//5.99912//EN
TZID:Europe/Berlin
X-WR-TIMEZONE:Europe/Berlin
BEGIN:VEVENT
UID:0-681@fernuni-hagen.de
DTSTART;TZID=Europe/Berlin:20260715T173000
DTEND;TZID=Europe/Berlin:20260715T193000
DTSTAMP:20251217T175710Z
URL:https://www.fernuni-hagen.de/KSW/portale/mabm/events/zukunftswerkstatt
 -ergebnispraesentation-online-2/
SUMMARY:Zukunftswerkstatt: Ergebnispräsentation (online)
DESCRIPTION:Dieses Online-Seminar dient der Präsentation der Ergebnisse un
 d der Reflexion des Prozesses Ihrer Zukunftswerkstatt. Die Teilnahme ist f
 ür Studierende des Moduls C1 verpflichtend.\nDer Link zur Veranstaltung w
 ird Ihnen im Nachrichtenforum der Moodle-Lernumgebung zur Verfügung geste
 llt.
CATEGORIES:Modul C1 weitere
END:VEVENT
BEGIN:VTIMEZONE
TZID:Europe/Berlin
X-LIC-LOCATION:Europe/Berlin
BEGIN:DAYLIGHT
DTSTART:20260329T030000
TZOFFSETFROM:+0100
TZOFFSETTO:+0200
TZNAME:CEST
END:DAYLIGHT
END:VTIMEZONE
END:VCALENDAR