BEGIN:VCALENDAR
VERSION:2.0
PRODID:-//wp-events-plugin.com//5.99912//EN
TZID:Europe/Berlin
X-WR-TIMEZONE:Europe/Berlin
BEGIN:VEVENT
UID:0-677@fernuni-hagen.de
DTSTART;TZID=Europe/Berlin:20260520T173000
DTEND;TZID=Europe/Berlin:20260520T183000
DTSTAMP:20251217T175228Z
URL:https://www.fernuni-hagen.de/KSW/portale/mabm/events/zukunftswerkstatt
 -gruppenfindung-2/
SUMMARY:Zukunftswerkstatt: Gruppenfindung
DESCRIPTION:Dieses Online-Seminar dient der Themen- und Gruppenfindung für
  die im Rahmen der Gruppenphase zu absolvierende Zukunftswerkstatt.\nDer L
 ink zur Veranstaltung wird Ihnen im Nachrichtenforum der Moodle-Lernumgebu
 ng zur Verfügung gestellt.
CATEGORIES:Modul C1 weitere
END:VEVENT
BEGIN:VTIMEZONE
TZID:Europe/Berlin
X-LIC-LOCATION:Europe/Berlin
BEGIN:DAYLIGHT
DTSTART:20260329T030000
TZOFFSETFROM:+0100
TZOFFSETTO:+0200
TZNAME:CEST
END:DAYLIGHT
END:VTIMEZONE
END:VCALENDAR