BEGIN:VCALENDAR
VERSION:2.0
PRODID:-//wp-events-plugin.com//5.99912//EN
TZID:Europe/Berlin
X-WR-TIMEZONE:Europe/Berlin
BEGIN:VEVENT
UID:0-679@fernuni-hagen.de
DTSTART;TZID=Europe/Berlin:20260610T173000
DTEND;TZID=Europe/Berlin:20260610T190000
DTSTAMP:20251217T175439Z
URL:https://www.fernuni-hagen.de/KSW/portale/mabm/events/zukunftswerkstatt
 -phantasie-und-utopiephase-online-2/
SUMMARY:Zukunftswerkstatt: Phantasie- und Utopiephase (online)
DESCRIPTION:In diesem Online-Seminar reflektieren wir gemeinsam die Kritikp
 hase. Weiterhin erfolgt eine Einführung in die wesentlichen Elemente der 
 Phantasie- und Utopiephase. Daran anschließend können Sie in Ihren Grupp
 en in die zweiwöchige Phantasie- und Utopiephase einsteigen.\nDer Link zu
 r Veranstaltung wird Ihnen im Nachrichtenforum der Moodle-Lernumgebung zur
  Verfügung gestellt.
CATEGORIES:Modul C1 weitere
END:VEVENT
BEGIN:VTIMEZONE
TZID:Europe/Berlin
X-LIC-LOCATION:Europe/Berlin
BEGIN:DAYLIGHT
DTSTART:20260329T030000
TZOFFSETFROM:+0100
TZOFFSETTO:+0200
TZNAME:CEST
END:DAYLIGHT
END:VTIMEZONE
END:VCALENDAR