BEGIN:VCALENDAR
VERSION:2.0
PRODID:-//wp-events-plugin.com//5.99912//EN
TZID:Europe/Berlin
X-WR-TIMEZONE:Europe/Berlin
BEGIN:VEVENT
UID:0-680@fernuni-hagen.de
DTSTART;TZID=Europe/Berlin:20260624T173000
DTEND;TZID=Europe/Berlin:20260624T190000
DTSTAMP:20251217T175528Z
URL:https://www.fernuni-hagen.de/KSW/portale/mabm/events/zukunftswerkstatt
 -realisierungsphase-online-4/
SUMMARY:Zukunftswerkstatt: Realisierungsphase (online)
DESCRIPTION:In diesem Online-Seminar reflektieren wir gemeinsam die Phantas
 ie- und Utopiephase. Weiterhin erfolgt eine Einführung in die wesentliche
 n Elemente der Realisierungsphase. Daran anschließend können Sie in Ihre
 n Gruppen in die Realisierungsphase einsteigen.\nDer Link zur Veranstaltun
 g wird Ihnen im Nachrichtenforum der Moodle-Lernumgebung zur Verfügung ge
 stellt.
CATEGORIES:Modul C1 weitere
END:VEVENT
BEGIN:VTIMEZONE
TZID:Europe/Berlin
X-LIC-LOCATION:Europe/Berlin
BEGIN:DAYLIGHT
DTSTART:20260329T030000
TZOFFSETFROM:+0100
TZOFFSETTO:+0200
TZNAME:CEST
END:DAYLIGHT
END:VTIMEZONE
END:VCALENDAR