BEGIN:VCALENDAR
VERSION:2.0
PRODID:-//Gremienkalender - ECPv6.15.17.1//NONSGML v1.0//EN
CALSCALE:GREGORIAN
METHOD:PUBLISH
X-WR-CALNAME:Gremienkalender
X-ORIGINAL-URL:https://www.fernuni-hagen.de/gremienkalender
X-WR-CALDESC:Veranstaltungen für Gremienkalender
REFRESH-INTERVAL;VALUE=DURATION:PT1H
X-Robots-Tag:noindex
X-PUBLISHED-TTL:PT1H
BEGIN:VTIMEZONE
TZID:Europe/Berlin
BEGIN:DAYLIGHT
TZOFFSETFROM:+0100
TZOFFSETTO:+0200
TZNAME:CEST
DTSTART:20250330T010000
END:DAYLIGHT
BEGIN:STANDARD
TZOFFSETFROM:+0200
TZOFFSETTO:+0100
TZNAME:CET
DTSTART:20251026T010000
END:STANDARD
BEGIN:DAYLIGHT
TZOFFSETFROM:+0100
TZOFFSETTO:+0200
TZNAME:CEST
DTSTART:20260329T010000
END:DAYLIGHT
BEGIN:STANDARD
TZOFFSETFROM:+0200
TZOFFSETTO:+0100
TZNAME:CET
DTSTART:20261025T010000
END:STANDARD
BEGIN:DAYLIGHT
TZOFFSETFROM:+0100
TZOFFSETTO:+0200
TZNAME:CEST
DTSTART:20270328T010000
END:DAYLIGHT
BEGIN:STANDARD
TZOFFSETFROM:+0200
TZOFFSETTO:+0100
TZNAME:CET
DTSTART:20271031T010000
END:STANDARD
END:VTIMEZONE
BEGIN:VEVENT
DTSTART;VALUE=DATE:20260601
DTEND;VALUE=DATE:20260603
DTSTAMP:20260421T005407
CREATED:20250919T112332Z
LAST-MODIFIED:20250919T112332Z
UID:691-1780272000-1780444799@www.fernuni-hagen.de
SUMMARY:79. Sitzung des Hochschulrates und Klausurtagung
DESCRIPTION:Einreichungsfrist für Sitzungsunterlagen: 14. Mai 2026
URL:https://www.fernuni-hagen.de/gremienkalender/event/79-sitzung-des-hochschulrates-und-klausurtagung/
END:VEVENT
END:VCALENDAR