BEGIN:VCALENDAR
VERSION:2.0
PRODID:-//Gremienkalender - ECPv6.15.17.1//NONSGML v1.0//EN
CALSCALE:GREGORIAN
METHOD:PUBLISH
X-ORIGINAL-URL:https://www.fernuni-hagen.de/gremienkalender
X-WR-CALDESC:Veranstaltungen für Gremienkalender
REFRESH-INTERVAL;VALUE=DURATION:PT1H
X-Robots-Tag:noindex
X-PUBLISHED-TTL:PT1H
BEGIN:VTIMEZONE
TZID:Europe/Berlin
BEGIN:DAYLIGHT
TZOFFSETFROM:+0100
TZOFFSETTO:+0200
TZNAME:CEST
DTSTART:20250330T010000
END:DAYLIGHT
BEGIN:STANDARD
TZOFFSETFROM:+0200
TZOFFSETTO:+0100
TZNAME:CET
DTSTART:20251026T010000
END:STANDARD
BEGIN:DAYLIGHT
TZOFFSETFROM:+0100
TZOFFSETTO:+0200
TZNAME:CEST
DTSTART:20260329T010000
END:DAYLIGHT
BEGIN:STANDARD
TZOFFSETFROM:+0200
TZOFFSETTO:+0100
TZNAME:CET
DTSTART:20261025T010000
END:STANDARD
BEGIN:DAYLIGHT
TZOFFSETFROM:+0100
TZOFFSETTO:+0200
TZNAME:CEST
DTSTART:20270328T010000
END:DAYLIGHT
BEGIN:STANDARD
TZOFFSETFROM:+0200
TZOFFSETTO:+0100
TZNAME:CET
DTSTART:20271031T010000
END:STANDARD
END:VTIMEZONE
BEGIN:VEVENT
DTSTART;TZID=Europe/Berlin:20260303T090000
DTEND;TZID=Europe/Berlin:20260303T140000
DTSTAMP:20260420T213447
CREATED:20251128T101241Z
LAST-MODIFIED:20251128T101241Z
UID:773-1772528400-1772546400@www.fernuni-hagen.de
SUMMARY:1117. Sitzung des Rektorats
DESCRIPTION:
URL:https://www.fernuni-hagen.de/gremienkalender/event/1117-sitzung-des-rektorats/
CATEGORIES:Rektorat
END:VEVENT
BEGIN:VEVENT
DTSTART;TZID=Europe/Berlin:20260304T130000
DTEND;TZID=Europe/Berlin:20260304T130000
DTSTAMP:20260420T213447
CREATED:20240618T084253Z
LAST-MODIFIED:20251204T092823Z
UID:501-1772629200-1772629200@www.fernuni-hagen.de
SUMMARY:395. Senatssitzung
DESCRIPTION:Einreichungsfrist für Vorlagen: 18.02.2026\, 12:00 Uhr
URL:https://www.fernuni-hagen.de/gremienkalender/event/396-senatssitzung/
LOCATION:Senatssaal (Gebäude 2)\, Universitätsstr. 33\, Hagen\, 58097
CATEGORIES:Senat
END:VEVENT
BEGIN:VEVENT
DTSTART;TZID=Europe/Berlin:20260317T090000
DTEND;TZID=Europe/Berlin:20260317T140000
DTSTAMP:20260420T213447
CREATED:20251128T101322Z
LAST-MODIFIED:20251128T101322Z
UID:775-1773738000-1773756000@www.fernuni-hagen.de
SUMMARY:1118. Sitzung des Rektorats
DESCRIPTION:
URL:https://www.fernuni-hagen.de/gremienkalender/event/1118-sitzung-des-rektorats/
CATEGORIES:Rektorat
END:VEVENT
BEGIN:VEVENT
DTSTART;TZID=Europe/Berlin:20260331T090000
DTEND;TZID=Europe/Berlin:20260331T140000
DTSTAMP:20260420T213447
CREATED:20251128T101423Z
LAST-MODIFIED:20251128T101423Z
UID:777-1774947600-1774965600@www.fernuni-hagen.de
SUMMARY:1119. Sitzung des Rektorats (Bedarfstermin)
DESCRIPTION:
URL:https://www.fernuni-hagen.de/gremienkalender/event/1119-sitzung-des-rektorats-bedarfstermin/
CATEGORIES:Rektorat
END:VEVENT
END:VCALENDAR